BEGIN:VCALENDAR
PRODID:-//AT Content Types//AT Event//EN
VERSION:2.0
METHOD:PUBLISH
BEGIN:VEVENT
DTSTAMP:20260421T164529Z
CREATED:20240424T135126Z
UID:ATEvent-d22c786fcaf64b9a89c14a82ff4a074a
LAST-MODIFIED:20241119T103359Z
SUMMARY:Direct Measures Webinar
DTSTART:20241211T100000Z
DTEND:20241211T120000Z
DESCRIPTION:Our seminar will provide an opportunity for in-depth explo
 ration of the legal and practical aspects of how police warnings are u
 sed and documented in the Scottish criminal justice system. \n\nPartic
 ipants will gain insights into the policies and procedures governing t
 he recording of police warnings\, the implications of these records on
  individuals' legal rights\, and the role they play in criminal invest
 igations and any future court proceedings.
CLASS:PUBLIC
END:VEVENT
END:VCALENDAR
